BEGIN:VCALENDAR
VERSION:2.0
PRODID:-//wp-events-plugin.com//7.2.3.1//EN
TZID:America/Chicago
X-WR-TIMEZONE:America/Chicago
BEGIN:VEVENT
UID:422@berlinlibrary.org
DTSTART;TZID=America/Chicago:20260526T140000
DTEND;TZID=America/Chicago:20260526T140000
DTSTAMP:20260425T011209Z
URL:https://berlinlibrary.org/events/mystery-mondays-book-club-7/
SUMMARY:Mystery Mondays Book Club
DESCRIPTION:\nJoin us for a discussion of The 7 1/2 Deaths of Evelyn Hardc
 astle by Stuart Turton.\n\n\n\nBooks will be available to checkout at the 
 library. All are welcome!\n\n\n\nThe Mystery Mondays Book Club meets the l
 ast Monday every month at 2 pm at the library.*\n\n\n\n*Meeting on Tuesday
  this month due to Memorial Day\n
ATTACH;FMTTYPE=image/jpeg:https://berlinlibrary.org/wp-content/uploads/202
 4/09/Copy-of-Mystery-Mondays-Book-Club.jpg
END:VEVENT
BEGIN:VTIMEZONE
TZID:America/Chicago
X-LIC-LOCATION:America/Chicago
BEGIN:DAYLIGHT
DTSTART:20260308T030000
TZOFFSETFROM:-0600
TZOFFSETTO:-0500
TZNAME:CDT
END:DAYLIGHT
END:VTIMEZONE
END:VCALENDAR