BEGIN:VCALENDAR
VERSION:2.0
PRODID:-//wp-events-plugin.com//7.2.3.1//EN
TZID:America/Chicago
X-WR-TIMEZONE:America/Chicago
BEGIN:VEVENT
UID:116@berlinlibrary.org
DTSTART;TZID=America/Chicago:20250630T140000
DTEND;TZID=America/Chicago:20250630T140000
DTSTAMP:20250528T145547Z
URL:https://berlinlibrary.org/events/mystery-mondays-book-club-2-2025-06-3
 0/
SUMMARY:Mystery Mondays Book Club
DESCRIPTION:\nJoin us for a discussion of Happiness Falls by Angie Kim. Boo
 ks will be available to checkout at the library. All are welcome!\n\n\n\nT
 he Mystery Mondays Book Club meets the last Monday every month at 2 pm at 
 the library. \n
ATTACH;FMTTYPE=image/jpeg:https://berlinlibrary.org/wp-content/uploads/202
 4/09/Copy-of-Mystery-Mondays-Book-Club.jpg
CATEGORIES:Adults,Book Club
END:VEVENT
BEGIN:VTIMEZONE
TZID:America/Chicago
X-LIC-LOCATION:America/Chicago
BEGIN:DAYLIGHT
DTSTART:20250309T030000
TZOFFSETFROM:-0600
TZOFFSETTO:-0500
TZNAME:CDT
END:DAYLIGHT
END:VTIMEZONE
END:VCALENDAR