BEGIN:VCALENDAR
VERSION:2.0
PRODID:-//wp-events-plugin.com//7.2.3.1//EN
TZID:America/Chicago
X-WR-TIMEZONE:America/Chicago
BEGIN:VEVENT
UID:415@berlinlibrary.org
DTSTART;TZID=America/Chicago:20260424T180000
DTEND;TZID=America/Chicago:20260424T210000
DTSTAMP:20260326T140754Z
URL:https://berlinlibrary.org/events/dungeons-dragons-16/
SUMMARY:Dungeons &amp\; Dragons
DESCRIPTION:\nCome play a space-pirates themed campaign of Dungeons &amp\; 
 Dragons at the library. Bring your own level 6 character to join in the ad
 venture (premade characters may be provided upon request). Dice will be av
 ailable for all to use.\n\n\n\nSpots are limited. Registration is required
 . Call 920-361-5420 to register or email adultservices@berlinlibrary.org f
 or more information.\n\n\n\n\n
ATTACH;FMTTYPE=image/jpeg:https://berlinlibrary.org/wp-content/uploads/202
 4/09/At-the-Library.jpg
CATEGORIES:Adults,Games,Teens
END:VEVENT
BEGIN:VTIMEZONE
TZID:America/Chicago
X-LIC-LOCATION:America/Chicago
BEGIN:DAYLIGHT
DTSTART:20260308T030000
TZOFFSETFROM:-0600
TZOFFSETTO:-0500
TZNAME:CDT
END:DAYLIGHT
END:VTIMEZONE
END:VCALENDAR