BEGIN:VCALENDAR
VERSION:2.0
PRODID:-//wp-events-plugin.com//7.2.3.1//EN
TZID:America/Chicago
X-WR-TIMEZONE:America/Chicago
BEGIN:VEVENT
UID:425@berlinlibrary.org
DTSTART;TZID=America/Chicago:20260507T140000
DTEND;TZID=America/Chicago:20260507T200000
DTSTAMP:20260425T011620Z
URL:https://berlinlibrary.org/events/crafternoon-pipe-cleaner-bouquet/
SUMMARY:Crafternoon - Pipe Cleaner Bouquet
DESCRIPTION:\nStop by the Crafternoon table on the main floor of the librar
 y and use our supplies to craft a bouquet of pipe cleaner flowers. This dr
 op-in\, self-led activity will be available on the main floor of the libra
 ry until Saturday\, May 9 or while supplies last. No registration is neces
 sary.\n\n\n\n\n
ATTACH;FMTTYPE=image/jpeg:https://berlinlibrary.org/wp-content/uploads/202
 6/04/hq720.jpg
END:VEVENT
BEGIN:VTIMEZONE
TZID:America/Chicago
X-LIC-LOCATION:America/Chicago
BEGIN:DAYLIGHT
DTSTART:20260308T030000
TZOFFSETFROM:-0600
TZOFFSETTO:-0500
TZNAME:CDT
END:DAYLIGHT
END:VTIMEZONE
END:VCALENDAR